BEGIN:VCALENDAR
VERSION:2.0
PRODID:-//Laraq - ECPv6.15.11//NONSGML v1.0//EN
CALSCALE:GREGORIAN
METHOD:PUBLISH
X-ORIGINAL-URL:https://laraq.com
X-WR-CALDESC:Événements pour Laraq
REFRESH-INTERVAL;VALUE=DURATION:PT1H
X-Robots-Tag:noindex
X-PUBLISHED-TTL:PT1H
BEGIN:VTIMEZONE
TZID:America/New_York
BEGIN:DAYLIGHT
TZOFFSETFROM:-0500
TZOFFSETTO:-0400
TZNAME:EDT
DTSTART:20250309T070000
END:DAYLIGHT
BEGIN:STANDARD
TZOFFSETFROM:-0400
TZOFFSETTO:-0500
TZNAME:EST
DTSTART:20251102T060000
END:STANDARD
BEGIN:DAYLIGHT
TZOFFSETFROM:-0500
TZOFFSETTO:-0400
TZNAME:EDT
DTSTART:20260308T070000
END:DAYLIGHT
BEGIN:STANDARD
TZOFFSETFROM:-0400
TZOFFSETTO:-0500
TZNAME:EST
DTSTART:20261101T060000
END:STANDARD
BEGIN:DAYLIGHT
TZOFFSETFROM:-0500
TZOFFSETTO:-0400
TZNAME:EDT
DTSTART:20270314T070000
END:DAYLIGHT
BEGIN:STANDARD
TZOFFSETFROM:-0400
TZOFFSETTO:-0500
TZNAME:EST
DTSTART:20271107T060000
END:STANDARD
END:VTIMEZONE
BEGIN:VEVENT
DTSTART;TZID=America/New_York:20260513T170000
DTEND;TZID=America/New_York:20260513T190000
DTSTAMP:20260420T045130
CREATED:19260513T170929Z
LAST-MODIFIED:20260415T170945Z
UID:10000135-1778691600-1778698800@laraq.com
SUMMARY:5@7 Zibo Laval
DESCRIPTION:Notre prochain 5@7 à Laval arrive à grands pas! \nNous vous donnons rendez-vous le 13 mai prochain au Zibo du Centropolis pour une soirée parfaite pour réseauter\, échanger et connecter avec les gens de l’industrie. \nQue vous soyez déjà dans le domaine ou que vous souhaitiez y faire votre place\, c’est l’occasion idéale de rencontrer d’autres professionnels passionnés dans une ambiance dynamique. \nInvitez vos collègues\, amenez vos contacts et venez faire partie de l’énergie de la relève! \nNotre prochain 5@7 à Laval arrive à grands pas! \nNous vous donnons rendez-vous le 13 mai prochain au Zibo du Centropolis pour une soirée parfaite pour réseauter\, échanger et connecter avec les gens de l’industrie. \nQue vous soyez déjà dans le domaine ou que vous souhaitiez y faire votre place\, c’est l’occasion idéale de rencontrer d’autres professionnels passionnés dans une ambiance dynamique. \nInvitez vos collègues\, amenez vos contacts et venez faire partie de l’énergie de la relève!
URL:https://laraq.com/evenement/57-zibo-laval/
LOCATION:Zibo laval\, 245 promenade du centropolis\, Laval\, Québec\, H7T 0B3\, Canada
CATEGORIES:5@7
ATTACH;FMTTYPE=image/jpeg:https://laraq.com/wp-content/uploads/2026/04/5@7-Zibo-13-mai-2026.jpg
ORGANIZER;CN="L%E2%80%99Association de la Rel%C3%A8ve en Assurances du Qu%C3%A9bec":MAILTO:info@laraq.com
END:VEVENT
END:VCALENDAR